BEGIN:VCALENDAR
VERSION:2.0
PRODID:-//wp-events-plugin.com//7.2.3.1//EN
TZID:Europe/Berlin
X-WR-TIMEZONE:Europe/Berlin
BEGIN:VEVENT
UID:785@europapunktbremen.de
DTSTART;TZID=Europe/Berlin:20260506T183000
DTEND;TZID=Europe/Berlin:20260506T221500
DTSTAMP:20260330T142151Z
URL:https://europapunktbremen.de/events/vhs-spiele-treff-europa/
SUMMARY:VHS-Spiele-Treff EUROPA
DESCRIPTION:Beim Offenen Spiele-Treff in der Bremer Volkshochschule treffen
  sich alle 14 Tage (jeweils in der ungeraden Woche) Menschen\, die Spaß a
 m Gesellschaftsspiel haben\, die gerne mit anderen spielen aber keine Mits
 pieler*in finden oder die einfach mal ein neues Spiel ausprobieren möchte
 n. Am 6.5.26 stehen im Rahmen der Europawochen insbesondere Spiele mit eur
 opäischen Themen im Mittelpunkt.\n\nEs ist eine offene Gruppe\, zu der et
 wa 35 - 55 Spieler*innen im Alter von 16 bis über 70 kommen - neue Mitspi
 eler*innen sind gerne gesehen. Gespielt wird alles\, was in den etwa vier 
 Stunden zu schaffen ist - vom kleinen Kartenspiel bis zum komplexen Strate
 giespiel. Es gibt eine große Spieleauswahl\, aber eigene Spiele können g
 erne mitgebracht werden. Weitere Informationen unter 0421/ 361 -3657. Eine
  Anmeldung ist nicht erforderlich\, aber sinnvoll (z.B. für eine Info bei
  Ausfall/Verschiebung).
ATTACH;FMTTYPE=image/jpeg:https://europapunktbremen.de/wp-content/uploads/
 2026/02/Logo-OST.jpg
CATEGORIES:Europawoche 2026
LOCATION:Bremer Volkshoche\, Faulenstraße 67\, 28195 Bremen\, Bremen\, Deu
 tschland
X-APPLE-STRUCTURED-LOCATION;VALUE=URI;X-ADDRESS=Faulenstraße 67\, 28195 Br
 emen\, Bremen\, Deutschland;X-APPLE-RADIUS=100;X-TITLE=Bremer Volkshoche:g
 eo:0,0
END:VEVENT
BEGIN:VTIMEZONE
TZID:Europe/Berlin
X-LIC-LOCATION:Europe/Berlin
BEGIN:DAYLIGHT
DTSTART:20260329T030000
TZOFFSETFROM:+0100
TZOFFSETTO:+0200
TZNAME:CEST
END:DAYLIGHT
END:VTIMEZONE
END:VCALENDAR