BEGIN:VCALENDAR
VERSION:2.0
PRODID:-//wp-events-plugin.com//7.2.3.1//EN
TZID:Europe/Berlin
X-WR-TIMEZONE:Europe/Berlin
BEGIN:VEVENT
UID:742@europapunktbremen.de
DTSTART;TZID=Europe/Berlin:20250918T153000
DTEND;TZID=Europe/Berlin:20250918T170000
DTSTAMP:20250827T072556Z
URL:https://europapunktbremen.de/events/pipeline-treffen/
SUMMARY:Pipeline-Treffen
DESCRIPTION:Zu dieser halb-öffentlichen Veranstaltung sind alle Akteure de
 r europapolitischen Informationsarbeit aus Bremen und umzu eingeladen.\n\n
 Wir würden uns freuen\, wenn wir neben dem Austausch zu laufenden Veranst
 altungsplanungen (...oder dem\, was wir "in der Pipeline" haben\, deswegen
  Pipeline-Treffen!) auch die Möglichkeit nutzen\, um besondere Projektvor
 haben miteinander zu besprechen.\n\nBitte melden Sie sich ganz unten über
  den Teilnahmeknopf für den 18.9. an!
ATTACH;FMTTYPE=image/jpeg:https://europapunktbremen.de/wp-content/uploads/
 2025/07/hh0a0944-scaled.jpg
CATEGORIES:EuropaPunkt
LOCATION:EuropaPunktBremen\, Am Markt 20\, Bremen\, Bremen\, 28195\, Deutsc
 hland
X-APPLE-STRUCTURED-LOCATION;VALUE=URI;X-ADDRESS=Am Markt 20\, Bremen\, Brem
 en\, 28195\, Deutschland;X-APPLE-RADIUS=100;X-TITLE=EuropaPunktBremen:geo:
 0,0
END:VEVENT
BEGIN:VTIMEZONE
TZID:Europe/Berlin
X-LIC-LOCATION:Europe/Berlin
BEGIN:DAYLIGHT
DTSTART:20250330T030000
TZOFFSETFROM:+0100
TZOFFSETTO:+0200
TZNAME:CEST
END:DAYLIGHT
END:VTIMEZONE
END:VCALENDAR