BEGIN:VCALENDAR
VERSION:2.0
PRODID:-//wp-events-plugin.com//7.2.3.1//EN
TZID:Europe/Berlin
X-WR-TIMEZONE:Europe/Berlin
BEGIN:VEVENT
UID:232@europapunktbremen.de
DTSTART;TZID=Europe/Berlin:20211104T160000
DTEND;TZID=Europe/Berlin:20211104T180000
DTSTAMP:20211007T114147Z
URL:https://europapunktbremen.de/events/offene-erasmus-sprechstunde/
SUMMARY:Offene Erasmus-Sprechstunde
DESCRIPTION:Jeden ersten Donnerstag im Monat bieten wir eine offene Sprechs
 tunde rund um Erasmus+ an.\n\nDenn Erasmus+ ist mehr als der Auslandsaufen
 thalt während des Studiums! Es bietet viele spannende Möglichkeiten für
  allgemeinbildende Schulen\, für die berufliche Aus- und Weiterbildung\, 
 für außerschulische Bildungsprojekte und auch für Sportvereine.\n\nHabe
 n Sie allgemeine Fragen zu Erasmus+?  Oder haben Sie bereits eine Projekt
 idee in einem möglichen Förderbereich\, sind sich aber bei der Antragsst
 ellung oder Planung unsicher? Sie sind bereits bei Erasmus+ aktiv und möc
 hten sich vernetzen und austauschen?\n\nDas Team der Erasmus-Koordinierung
 sstelle unterstützt Erasmus-Aktive und jene\, die es werden wollen\, bei 
 Fragen jeglicher Art\, bei der Antragstellung und bei der Vernetzung mit m
 öglichen Kooperationspartner:innen oder Projektdurchführenden aus Bremen
  und Bremerhaven.
ATTACH;FMTTYPE=image/jpeg:https://europapunktbremen.de/wp-content/uploads/
 2021/08/sprechstunde_homepage_neu.png
CATEGORIES:Erasmus,EuropaPunkt
LOCATION:EuropaPunktBremen\, Am Markt 20\, Bremen\, 28195\, Deutschland
X-APPLE-STRUCTURED-LOCATION;VALUE=URI;X-ADDRESS=Am Markt 20\, Bremen\, 2819
 5\, Deutschland;X-APPLE-RADIUS=100;X-TITLE=EuropaPunktBremen:geo:0,0
END:VEVENT
BEGIN:VTIMEZONE
TZID:Europe/Berlin
X-LIC-LOCATION:Europe/Berlin
BEGIN:STANDARD
DTSTART:20211031T020000
TZOFFSETFROM:+0200
TZOFFSETTO:+0100
TZNAME:CET
END:STANDARD
END:VTIMEZONE
END:VCALENDAR