BEGIN:VCALENDAR
VERSION:2.0
PRODID:-//wp-events-plugin.com//7.2.3.1//EN
TZID:Europe/Berlin
X-WR-TIMEZONE:Europe/Berlin
BEGIN:VEVENT
UID:425@europapunktbremen.de
DTSTART;TZID=Europe/Berlin:20230220T190000
DTEND;TZID=Europe/Berlin:20230220T203000
DTSTAMP:20230130T133122Z
URL:https://europapunktbremen.de/events/lag-europapolitik-der-gruenen/
SUMMARY:LAG Europapolitik der Grünen
DESCRIPTION:Eine öffentliche Sitzung der Landes-Arbeitsgemeinschaft der Gr
 ünen "Europapolitik".\n\nMehr Infos kommen\, sobald wir Details erhalten.
 \n\nhttps://gruene-bremen.de/gliederung/lag-europa-frieden-internationales
 / 
END:VEVENT
BEGIN:VTIMEZONE
TZID:Europe/Berlin
X-LIC-LOCATION:Europe/Berlin
BEGIN:STANDARD
DTSTART:20221030T020000
TZOFFSETFROM:+0200
TZOFFSETTO:+0100
TZNAME:CET
END:STANDARD
END:VTIMEZONE
END:VCALENDAR