BEGIN:VCALENDAR
VERSION:2.0
PRODID:-//wp-events-plugin.com//7.2.3.1//EN
TZID:Europe/Berlin
X-WR-TIMEZONE:Europe/Berlin
BEGIN:VEVENT
UID:779@europapunktbremen.de
DTSTART;TZID=Europe/Berlin:20260430T100000
DTEND;TZID=Europe/Berlin:20260430T163000
DTSTAMP:20260408T084749Z
URL:https://europapunktbremen.de/events/international-symposium-sustainabl
 e-development-social-challenges-and-public-policy/
SUMMARY:International Symposium Sustainable Development\, Social Challenges
  and Public Policy
DESCRIPTION:The International Symposium: Sustainable Development\, Social C
 hallenges and Public Policy forms part of a Blended Intensive Programme or
 ganised online and on site in Bremen for a 25-years-old network of 10\, cu
 rrently 8 active Universities and Universities of Applied Sciences from Ma
 laga in the West to Tallinn and Sibiu in the East\, organising this event.
  The International Symposium offers insights for academics and the general
  public with an interest in the European Union as well as input for studen
 ts developing sustainability projects in international multi-disciplinary 
 teams.\n\n&nbsp\;\n\nThe finalised program will be added shortly.
ATTACH;FMTTYPE=image/jpeg:https://europapunktbremen.de/wp-content/uploads/
 2026/01/hsb-horizontal-rgb.png
CATEGORIES:Europawoche 2026
END:VEVENT
BEGIN:VTIMEZONE
TZID:Europe/Berlin
X-LIC-LOCATION:Europe/Berlin
BEGIN:DAYLIGHT
DTSTART:20260329T030000
TZOFFSETFROM:+0100
TZOFFSETTO:+0200
TZNAME:CEST
END:DAYLIGHT
END:VTIMEZONE
END:VCALENDAR