BEGIN:VCALENDAR
VERSION:2.0
PRODID:-//wp-events-plugin.com//7.2.3.1//EN
TZID:Europe/Berlin
X-WR-TIMEZONE:Europe/Berlin
BEGIN:VEVENT
UID:639@europapunktbremen.de
DTSTART;TZID=Europe/Berlin:20240928T200000
DTEND;TZID=Europe/Berlin:20240928T213000
DTSTAMP:20240920T102400Z
URL:https://europapunktbremen.de/events/filmreihe-demokratie-in-europa/
SUMMARY:Filmreihe "Demokratie in Europa"
DESCRIPTION:Als dritter Film der Reihe "Demokratie in Europa" im Kino City 
 46 wird am 28. September 2024 um 20:00 Uhr "Democracy Noir" gezeigt..\n\nD
 ie Dokumentarfilmerin und Regisseurin des Films Connie Field wird bei der 
 Aufführung zum Gespräch anwesend sein. Ein sehr spannender Film über di
 e Situation in Ungarn von einer sehr spannenden Regisseurin!\n\nWeitere In
 fos unter ⁠Https://www.city46.de\, wo es ein klasse Filmprogramm gibt.
ATTACH;FMTTYPE=image/jpeg:https://europapunktbremen.de/wp-content/uploads/
 2024/07/filmreihe-demokratie-in-europa-1.png
CATEGORIES:EuropaPunkt,Veranstaltung
LOCATION:City 46 Kommunalkino Bremen e. V.\, Birkenstraße 1\, Bremen\, Deu
 tschland
X-APPLE-STRUCTURED-LOCATION;VALUE=URI;X-ADDRESS=Birkenstraße 1\, Bremen\, 
 Deutschland;X-APPLE-RADIUS=100;X-TITLE=City 46 Kommunalkino Bremen e. V.:g
 eo:0,0
END:VEVENT
BEGIN:VTIMEZONE
TZID:Europe/Berlin
X-LIC-LOCATION:Europe/Berlin
BEGIN:DAYLIGHT
DTSTART:20240331T030000
TZOFFSETFROM:+0100
TZOFFSETTO:+0200
TZNAME:CEST
END:DAYLIGHT
END:VTIMEZONE
END:VCALENDAR