BEGIN:VCALENDAR
VERSION:2.0
PRODID:-//wp-events-plugin.com//7.2.3.1//EN
TZID:Europe/Berlin
X-WR-TIMEZONE:Europe/Berlin
BEGIN:VEVENT
UID:788@europapunktbremen.de
DTSTART;TZID=Europe/Berlin:20260601T180000
DTEND;TZID=Europe/Berlin:20260601T200000
DTSTAMP:20260318T154156Z
URL:https://europapunktbremen.de/events/europaeische-weltraumpolitik/
SUMMARY:Europäische Weltraumpolitik
DESCRIPTION:Die Europa-Union Bremen lädt herzlich zu einer Diskussionsvera
 nstaltung zur europäischen Weltraumpolitik in der Handelskammer Bremen ei
 n.\nDer Weltraum ist längst ein zentraler Faktor für Sicherheit\, Wirtsc
 haft\, Klimaschutz\, Forschung und technologische Souveränität. Europas 
 Fähigkeit\, im All eigenständig und strategisch zu handeln\, gewinnt ang
 esichts globaler geopolitischer Entwicklungen zunehmend an Bedeutung. Doch
  welche Ziele verfolgt die Europäische Union in der Raumfahrt? Welche Rol
 le spielen Innovation\, Nachhaltigkeit und internationale Zusammenarbeit? 
 Und wie kann Europa seine technologische Unabhängigkeit sichern?\nDiese u
 nd weitere Fragen möchten wir gemeinsam mit Marko Fuchs (Vorsitzender OHB
 ) diskutieren. Ziel der Veranstaltung ist es\, Einblicke in die aktuellen
  Strategien der europäischen Weltraumpolitik zu geben und deren Bedeutung
  für Wirtschaft\, Gesellschaft und Sicherheit zu beleuchten.\nDie Europa-
 Union Bremen freut sich auf alle Teilnehmen!
ATTACH;FMTTYPE=image/jpeg:https://europapunktbremen.de/wp-content/uploads/
 2026/02/Kopie-von-Info-Karussell-Template-1.jpeg
CATEGORIES:Europawoche 2026
LOCATION:Handelskammer Bremen\, Haus Schütting\, Am Markt 13\, Bremen\, 28
 195\, Deutschland
X-APPLE-STRUCTURED-LOCATION;VALUE=URI;X-ADDRESS=Am Markt 13\, Bremen\, 2819
 5\, Deutschland;X-APPLE-RADIUS=100;X-TITLE=Handelskammer Bremen\, Haus Sch
 ütting:geo:0,0
END:VEVENT
BEGIN:VTIMEZONE
TZID:Europe/Berlin
X-LIC-LOCATION:Europe/Berlin
BEGIN:DAYLIGHT
DTSTART:20260329T030000
TZOFFSETFROM:+0100
TZOFFSETTO:+0200
TZNAME:CEST
END:DAYLIGHT
END:VTIMEZONE
END:VCALENDAR