BEGIN:VCALENDAR
VERSION:2.0
PRODID:-//wp-events-plugin.com//7.2.3.1//EN
TZID:Europe/Berlin
X-WR-TIMEZONE:Europe/Berlin
BEGIN:VEVENT
UID:745@europapunktbremen.de
DTSTART;TZID=Europe/Berlin:20251030T130000
DTEND;TZID=Europe/Berlin:20251030T143000
DTSTAMP:20251014T130927Z
URL:https://europapunktbremen.de/events/euro-lunch-mit-gesa-olkusz-zu-ihre
 m-buch-das-schweigen-meines-bruders/
SUMMARY:Euro-Lunch mit Gesa Olkusz zu ihrem Buch "Die Sprache meines Bruder
 s"
DESCRIPTION:Gesa Olkusz ist mit ihrem neuen Roman „Die Sprache meines Bru
 ders“ bei der Globale° im EuropaPunktBremen zu Gast – wo sie Einblick
 e in ihr Werk gibt\, das ebenfalls auf der Longlist für den Deutschen Buc
 hpreis 2025 steht.\nEine einfache Geschichte\, poetisch und glasklar erzä
 hlt: Parker und Kasimir wandern als Jungen mit ihrer Mutter aus Polen in d
 ie USA aus – auf der Suche nach einem besseren Leben. Doch die Mutter ve
 rliert nach dieser Anstrengung jede Lebenslust. So wachsen die Brüder zu 
 eng verbundenen\, aber einsamen Einzelgängern heran: Parker arbeitet nach
 ts als Chauffeur\, während Kasimir das Haus nie verlässt. Als die Vagabu
 ndin Luzia bei ihnen einzieht\, bringt sie ungestüme Lebensfreude mit und
  stellt die stille Nähe der Brüder auf die Probe. Doch als Luzia nach Pa
 nama verschwindet\, ist klar: Kasimir muss ihr folgen – selbst wenn es i
 hn ans Ende der Welt führt.\nMit ihrer poetischen Sprache erzählt Gesa O
 lkusz von Einsamkeit\, Verbundenheit und dem unstillbaren Drang nach Leben
 . „Die Sprache meines Bruders“ ist ein berührender Roman über Migrat
 ion\, Verlust und die Suche nach einem Ort\, an dem man heimisch werden ka
 nn.\nIm Anschluss an die Lesung gibt es auch diesmal einen Euro-Lunch: ein
 e kleine Stärkung\, leichte Getränke und die Gelegenheit\, in lockerer R
 unde mit der Autorin ins Gespräch zu kommen\, Fragen zu stellen und Gedan
 ken auszutauschen.\nModeration: Frieda Ahrens\nUm Anmeldung wird gebeten!\
 n\n\nEine Kooperation mit der globale! Bremen\n\n
ATTACH;FMTTYPE=image/jpeg:https://europapunktbremen.de/wp-content/uploads/
 2025/09/cover-olkusz-e1758524737958.jpg
CATEGORIES:EuropaPunkt,Partner,Veranstaltung
LOCATION:EuropaPunktBremen\, Am Markt 20\, Bremen\, Bremen\, 28195\, Deutsc
 hland
X-APPLE-STRUCTURED-LOCATION;VALUE=URI;X-ADDRESS=Am Markt 20\, Bremen\, Brem
 en\, 28195\, Deutschland;X-APPLE-RADIUS=100;X-TITLE=EuropaPunktBremen:geo:
 0,0
END:VEVENT
BEGIN:VTIMEZONE
TZID:Europe/Berlin
X-LIC-LOCATION:Europe/Berlin
BEGIN:STANDARD
DTSTART:20251026T020000
TZOFFSETFROM:+0200
TZOFFSETTO:+0100
TZNAME:CET
END:STANDARD
END:VTIMEZONE
END:VCALENDAR