BEGIN:VCALENDAR
VERSION:2.0
PRODID:-//wp-events-plugin.com//7.2.3.1//EN
TZID:Europe/Berlin
X-WR-TIMEZONE:Europe/Berlin
BEGIN:VEVENT
UID:772@europapunktbremen.de
DTSTART;TZID=Europe/Berlin:20260506T100000
DTEND;TZID=Europe/Berlin:20260506T110000
DTSTAMP:20260409T103232Z
URL:https://europapunktbremen.de/events/escape-game-event-am-6-mai-zur-ero
 effnung-der-europawochen-2026/
SUMMARY:Eröffnung der Europawochen 2026
DESCRIPTION:Viele Stärken - ein Europa: Bürgermeister Dr. Andreas Bovensc
 hulte eröffnet am 6. Mai\, ab 10 Uhr offiziell die diesjährigen Europawo
 chen in Bremen und Bremerhaven! In diesem Jahr müssen alle mitmachen\, da
 mit die Europawochen eröffnet werden können - seid gespannt! Freut euch 
 auf die Begrüßung durch den Bürgermeister und auf ein Get-Together und 
 regen Austausch mit den Beteiligten der Europawochen bei Getränken und Sn
 acks in angenehmer Atmosphäre.\nWir bitten um Anmeldung über den Link un
 ten.
ATTACH;FMTTYPE=image/jpeg:https://europapunktbremen.de/wp-content/uploads/
 2026/01/beitrag-sm-ew26-scaled.png
CATEGORIES:EuropaPunkt,Europawoche 2026,Veranstaltung
LOCATION:KWADRAT\, Wilhelm-Kaisen-Brücke 4 \, 28199\, Bremen\, Bremen\, De
 utschland
X-APPLE-STRUCTURED-LOCATION;VALUE=URI;X-ADDRESS=Wilhelm-Kaisen-Brücke 4 \,
  28199\, Bremen\, Bremen\, Deutschland;X-APPLE-RADIUS=100;X-TITLE=KWADRAT:
 geo:0,0
END:VEVENT
BEGIN:VTIMEZONE
TZID:Europe/Berlin
X-LIC-LOCATION:Europe/Berlin
BEGIN:DAYLIGHT
DTSTART:20260329T030000
TZOFFSETFROM:+0100
TZOFFSETTO:+0200
TZNAME:CEST
END:DAYLIGHT
END:VTIMEZONE
END:VCALENDAR