BEGIN:VCALENDAR
VERSION:2.0
PRODID:-//wp-events-plugin.com//7.2.3.1//EN
TZID:Europe/Berlin
X-WR-TIMEZONE:Europe/Berlin
BEGIN:VEVENT
UID:587@europapunktbremen.de
DTSTART;TZID=Europe/Berlin:20240522T083000
DTEND;TZID=Europe/Berlin:20240522T120000
DTSTAMP:20240411T094230Z
URL:https://europapunktbremen.de/events/erasmus-in-der-gesundheit-nord-bre
 men/
SUMMARY:ERASMUS+ in der Gesundheit Nord Bremen
DESCRIPTION:Auszubildende und Lehrkräfte der Bildungsakademie der Gesundhe
 it Nord Bremen berichten von Ihren Erfahrungen mit ERASMUS+. Dies beinhalt
 et u.a. Praktika in den verschiedenen EU Ländern Job-Shadowing der Lehrkr
 äfte sowie ein Kurs in Fachenglisch in Galway\, Irland.\n\nAnschließend 
 werden die Europässe Mobilität an die Teilnehmenden überreicht.
ATTACH;FMTTYPE=image/jpeg:https://europapunktbremen.de/wp-content/uploads/
 2024/03/europass.png
CATEGORIES:Europawoche 2024
LOCATION:Haus im Park\, Gelände des Klinikum Bremen Ost\, Züricher Str. 4
 0\, Bremen\, Bremen\, 28325\, Deutschland
X-APPLE-STRUCTURED-LOCATION;VALUE=URI;X-ADDRESS=Züricher Str. 40\, Bremen\
 , Bremen\, 28325\, Deutschland;X-APPLE-RADIUS=100;X-TITLE=Haus im Park\, G
 elände des Klinikum Bremen Ost:geo:0,0
END:VEVENT
BEGIN:VTIMEZONE
TZID:Europe/Berlin
X-LIC-LOCATION:Europe/Berlin
BEGIN:DAYLIGHT
DTSTART:20240331T030000
TZOFFSETFROM:+0100
TZOFFSETTO:+0200
TZNAME:CEST
END:DAYLIGHT
END:VTIMEZONE
END:VCALENDAR