BEGIN:VCALENDAR
VERSION:2.0
PRODID:-//wp-events-plugin.com//7.2.3.1//EN
TZID:Europe/Berlin
X-WR-TIMEZONE:Europe/Berlin
BEGIN:VEVENT
UID:806@europapunktbremen.de
DTSTART;TZID=Europe/Berlin:20260510T150000
DTEND;TZID=Europe/Berlin:20260510T173000
DTSTAMP:20260402T143512Z
URL:https://europapunktbremen.de/events/bremen-ist-euphorisch-europa-histo
 risch/
SUMMARY:Führung: Bremen ist euphorisch – Europa & Historisch
DESCRIPTION:Wir laden euch zu einer offenen Führung durch die Bremer Innen
 stadt ein. Gemeinsam werfen wir einen Blick auf Orte\, an denen europäisc
 he Geschichte in Bremen sichtbar wird – von historischen Verbindungen bi
 s zu aktuellen Bezügen.\nDie Führung ist offen für alle\, die Lust auf 
 Geschichte\, Austausch und neue Perspektiven haben. Sie erfordert keine hi
 storischen oder politischen Vorkenntnisse.
ATTACH;FMTTYPE=image/jpeg:https://europapunktbremen.de/wp-content/uploads/
 2026/02/Volt-Datei-geteilt_20260227_110132_0000.png
CATEGORIES:Europawoche 2026
LOCATION:Startpunkt vor dem Roland\, Marktplatz\, Bremen \, Bremen\, 28195\
 , Deutschland
X-APPLE-STRUCTURED-LOCATION;VALUE=URI;X-ADDRESS=Marktplatz\, Bremen \, Brem
 en\, 28195\, Deutschland;X-APPLE-RADIUS=100;X-TITLE=Startpunkt vor dem Rol
 and:geo:0,0
END:VEVENT
BEGIN:VTIMEZONE
TZID:Europe/Berlin
X-LIC-LOCATION:Europe/Berlin
BEGIN:DAYLIGHT
DTSTART:20260329T030000
TZOFFSETFROM:+0100
TZOFFSETTO:+0200
TZNAME:CEST
END:DAYLIGHT
END:VTIMEZONE
END:VCALENDAR