BEGIN:VCALENDAR
VERSION:2.0
PRODID:-//wp-events-plugin.com//7.2.3.1//EN
TZID:Europe/Berlin
X-WR-TIMEZONE:Europe/Berlin
BEGIN:VEVENT
UID:383@europapunktbremen.de
DTSTART;TZID=Europe/Berlin:20230209T180000
DTEND;TZID=Europe/Berlin:20230209T193000
DTSTAMP:20230105T122440Z
URL:https://europapunktbremen.de/events/biodiversitaetsstrategie-fuer-2030
 -in-bremen-und-bremerhaven/
SUMMARY:Biodiversitätsstrategie für 2030 - in Bremen und Bremerhaven
DESCRIPTION:Am 9. Februar 2023 betrachten wir genauer die EU-Biodiversität
 sstrategie für 2030\, die unter anderem ein Kernstück des European Green
  Deals ist.\nDafür wird Robert Gampfer von der Vertretung der Europäisch
 en Kommission in Deutschland zu Gast sein. Er wird die Stärken und Schwä
 chen der Strategie identifizieren und gleichzeitig über die konkreten Ma
 ßnahmen und Verpflichtungen für Deutschland\, aber auch speziell für Br
 emen\, Bremerhaven und umzu sprechen. Zudem wird die Europäische Waldstra
 tegie\, welche Teil der Biodiversitätsstrategie ist\, in diesem Teil aufg
 egriffen\, um im weiteren Verlauf daran anknüpfen zu können.\nAnschließ
 end wird Alena Jöst (Referentin im Ressort Umwelt der Senatorin für Klim
 aschutz\, Umwelt\, Mobilität\, Stadtentwicklung und Wohnungsbau) den Proz
 ess der Erstellung der Bremer Biodiversitätsstrategie sowie zentrale Idee
 n dazu erläutern. Ein Schwerpunkt soll auf urbane Räume sowie Artenvielf
 alt gelegt werden. Wir möchten der Frage nachgehen\, was das Land Bremen 
 für einen Beitrag zur Biodiversität leisten kann. \nEin spannender und w
 ichtiger Aspekt bei diesem Thema ist natürlich der Wohnraum und die Notwe
 ndigkeit von Grünflächen und Wäldern. Bekanntermaßen ist das Land Brem
 en nicht mit einer hohen Walddichte gesegnet\, weshalb wir Waldflächen in
  urbanen Räumen mit der Informationsorganisation Forst Erklärt diskutie
 ren möchten.\nDieser Ansatz hat bereits in Städten wie Leipzig großen A
 nklang gefunden und steht im Gegensatz zu der zunehmenden Verstädterung\,
  die unter anderem mit einer Versiegelung von Flächen in urbanen Räumen 
 einhergeht. \nWir bitte um Anmeldung unter anmeldung@europa.bremen.de.
ATTACH;FMTTYPE=image/jpeg:https://europapunktbremen.de/wp-content/uploads/
 2022/07/veranstaltung-biodiversitaetsstrategie-900-x-620-px.png
CATEGORIES:EuropaPunkt
LOCATION:Klimahaus Bremerhaven\, Am Längengrad 8\, Bremerhaven \, Bremen\,
  27568\, Deutschland
X-APPLE-STRUCTURED-LOCATION;VALUE=URI;X-ADDRESS=Am Längengrad 8\, Bremerha
 ven \, Bremen\, 27568\, Deutschland;X-APPLE-RADIUS=100;X-TITLE=Klimahaus B
 remerhaven:geo:0,0
END:VEVENT
BEGIN:VTIMEZONE
TZID:Europe/Berlin
X-LIC-LOCATION:Europe/Berlin
BEGIN:STANDARD
DTSTART:20221030T020000
TZOFFSETFROM:+0200
TZOFFSETTO:+0100
TZNAME:CET
END:STANDARD
END:VTIMEZONE
END:VCALENDAR