BEGIN:VCALENDAR
VERSION:2.0
PRODID:-//wp-events-plugin.com//7.2.3.1//EN
TZID:Europe/Berlin
X-WR-TIMEZONE:Europe/Berlin
BEGIN:VEVENT
UID:766@europapunktbremen.de
DTSTART;TZID=Europe/Berlin:20251215T170000
DTEND;TZID=Europe/Berlin:20260130T170000
DTSTAMP:20260116T132211Z
URL:https://europapunktbremen.de/events/ausstellungseroeffnung-unissued-di
 plomas/
SUMMARY:Ausstellung “Unissued Diplomas”
DESCRIPTION:\n\n 	\n"Unissued Diplomas" ist ein internationales Ausstellung
 sprojekt\, das dem Gedenken an ukrainische Studierende gewidmet ist\, dere
 n Leben infolge der umfassenden russischen Invasion in der Ukraine tragisc
 h beendet wurden.\n\n 	\nDas Projekt dokumentiert und visualisiert die ind
 ividuellen Lebensgeschichten dieser jungen Menschen\, deren Zukunftspläne
  – wie Reisen\, Berufseinstiege und Familiengründungen – durch den Kr
 ieg abrupt und gewaltsam zerstört wurden.\n\n 	\nDie Initiative entstand 
 aus dem Engagement junger Ukrainerinnen und Ukrainer und manifestiert sich
  in symbolischen „nicht ausgegebenen Diplomen“\, die stellvertretend f
 ür 40 verstorbene Studierende stehen.\n\n 	\nDiese symbolischen Diplome r
 epräsentieren sowohl zivile Studierende als auch jene\, die ihr Studium u
 nterbrachen\, um aktiv an der Verteidigung ihres Landes teilzunehmen.\n\n 
 	\nWährend einige Biografien umfassend rekonstruiert werden konnten\, ble
 iben andere unvollständig\, da keine Überlebenden existieren\, die deren
  Geschichten weitergeben könnten.\n\n 	\nSeit der Gründung des Projekts 
 im Jahr 2023 in der Ukraine hat sich „Unissued Diplomas“ global verbre
 itet und bis 2025 über 300 Ausstellungen in mehr als 30 Ländern auf fün
 f Kontinenten realisiert.\n\n 	\nDas Projekt wird von einem internationale
 n Team von über hundert Mitwirkenden getragen\, die sich der Bewahrung de
 s Andenkens an die gefallenen und getöteten ukrainischen Studierenden wid
 men.\n\n 	\nZiel ist es\, die internationale Öffentlichkeit kontinuierlic
 h an den hohen Preis zu erinnern\, den die Menschen in der Ukraine im täg
 lichen Kampf um Freiheit zahlen.\n\n\n\nOnline Präsentation und Details h
 ier: Unissued Diplomas | Ukrainian Student War Victims
ATTACH;FMTTYPE=image/jpeg:https://europapunktbremen.de/wp-content/uploads/
 2025/12/unissued-diplomasjpg116316.webp
CATEGORIES:EuropaPunkt
END:VEVENT
BEGIN:VTIMEZONE
TZID:Europe/Berlin
X-LIC-LOCATION:Europe/Berlin
BEGIN:STANDARD
DTSTART:20251026T020000
TZOFFSETFROM:+0200
TZOFFSETTO:+0100
TZNAME:CET
END:STANDARD
END:VTIMEZONE
END:VCALENDAR